BEGIN:VCALENDAR
VERSION:2.0
PRODID:-//213.186.33.16//NONSGML kigkonsult.se iCalcreator 2.20//
CALSCALE:GREGORIAN
METHOD:PUBLISH
X-WR-TIMEZONE:UTC
BEGIN:VEVENT
UID:event34@CMUPL-2024
DTSTAMP:20260424T061236Z
CATEGORIES:EXTERIEURS
DESCRIPTION:Atelier d'initiation à l'Echographie Interventionnelle\nCatégor
 ie: EXTERIEURS\nLien: https://www.cmupl.org/index.php?option=com_jem&view=
 event&id=34:atelier-dinitiation-a-lechographie-interventionnelle\n
DTSTART:20260305T083000Z
DTEND:20260305T183000Z
LOCATION:CESU 44\,1 Quai Moncousu\,44000 NANTES
SUMMARY:Atelier d'initiation à l'Echographie Interventionnelle
URL:https://www.cmupl.org/index.php?option=com_jem&view=event&id=34:atelier
 -dinitiation-a-lechographie-interventionnelle
END:VEVENT
END:VCALENDAR