BEGIN:VCALENDAR
VERSION:2.0
PRODID:-//213.186.33.16//NONSGML kigkonsult.se iCalcreator 2.20//
CALSCALE:GREGORIAN
METHOD:PUBLISH
X-WR-TIMEZONE:UTC
BEGIN:VEVENT
UID:event33@CMUPL-2024
DTSTAMP:20260424T060101Z
CATEGORIES:EXTERIEURS
DESCRIPTION:Atelier d'Echographie Clinique d'Urgence (ECMU)\nCatégorie: EXT
 ERIEURS\nLien: https://www.cmupl.org/index.php?option=com_jem&view=event&i
 d=33:atelier-dechographie-clinique-durgence-ecmu\n
DTSTART:20260303T083000Z
DTEND:20260304T183000Z
LOCATION:CESU 44\,1 Quai Moncousu\,44000 NANTES
SUMMARY:Atelier d'Echographie Clinique d'Urgence (ECMU)
URL:https://www.cmupl.org/index.php?option=com_jem&view=event&id=33:atelier
 -dechographie-clinique-durgence-ecmu
END:VEVENT
END:VCALENDAR