BEGIN:VCALENDAR
VERSION:2.0
PRODID:-//213.186.33.16//NONSGML kigkonsult.se iCalcreator 2.20//
CALSCALE:GREGORIAN
METHOD:PUBLISH
X-WR-TIMEZONE:UTC
BEGIN:VEVENT
UID:event32@CMUPL-2024
DTSTAMP:20260424T072726Z
CATEGORIES:EXTERIEURS
DESCRIPTION:Evaluation Hémodynamique et Respiratoire par UltraSons (EHRUS)
 \nCatégorie: EXTERIEURS\nLien: https://www.cmupl.org/index.php?option=com_
 jem&view=event&id=32:evaluation-hemodynamique-et-respiratoire-par-ultrason
 s-ehrus\n
DTSTART:20260203T083000Z
DTEND:20260204T183000Z
LOCATION:CESU 44\,1 Quai Moncousu\,44000 NANTES
SUMMARY:Evaluation Hémodynamique et Respiratoire par UltraSons (EHRUS)
URL:https://www.cmupl.org/index.php?option=com_jem&view=event&id=32:evaluat
 ion-hemodynamique-et-respiratoire-par-ultrasons-ehrus
END:VEVENT
END:VCALENDAR